BEGIN:VCALENDAR
VERSION:2.0
PRODID:-//wp-events-plugin.com//7.1.7//EN
BEGIN:VEVENT
UID:918@poonamusic.com
DTSTART:20050214T131500Z
DTEND:20050214T153000Z
DTSTAMP:20150302T203410Z
URL:https://poonamusic.com/events/when-ragas-meet-jazz-meeta-pandit-indian
 -classical-singer-allie-delfaut-piano/
SUMMARY:When Ragas meet Jazz - Meeta Pandit\, Indian classical singer / All
 ie Delfaut\, piano
DESCRIPTION:When Ragas meet Jazz - Meeta Pandit\, Indian classical singer /
  Allie Delfaut\, piano
CATEGORIES:Jazz
LOCATION:Mazda Hall\, Sardar Dastur Hoshang Boys High School\, Pune\, India
GEO:18.5198845;73.87824479999995
X-APPLE-STRUCTURED-LOCATION;VALUE=URI;X-ADDRESS=Sardar Dastur Hoshang Boys 
 High School\, Pune\, India;X-APPLE-RADIUS=100;X-TITLE=Mazda Hall:geo:18.51
 98845,73.87824479999995
END:VEVENT
END:VCALENDAR