BEGIN:VCALENDAR
VERSION:2.0
PRODID:-//wp-events-plugin.com//7.1.7//EN
BEGIN:VEVENT
UID:988@poonamusic.com
DTSTART:20090820T131500Z
DTEND:20090820T153000Z
DTSTAMP:20150302T203409Z
URL:https://poonamusic.com/events/winds-from-kutch-an-illustrated-presenta
 tion-with-music-visuals-and-words-by-randhir-khare/
SUMMARY:Winds from Kutch - An illustrated presentation with music\, visuals
  and words by Randhir Khare
DESCRIPTION:Winds from Kutch - An illustrated presentation with music\, vis
 uals and words by Randhir Khare
CATEGORIES:Indian music and dance
LOCATION:Mazda Hall\, Sardar Dastur Hoshang Boys High School\, Pune\, India
GEO:18.5198845;73.87824479999995
X-APPLE-STRUCTURED-LOCATION;VALUE=URI;X-ADDRESS=Sardar Dastur Hoshang Boys 
 High School\, Pune\, India;X-APPLE-RADIUS=100;X-TITLE=Mazda Hall:geo:18.51
 98845,73.87824479999995
END:VEVENT
END:VCALENDAR