BEGIN:VCALENDAR
VERSION:2.0
PRODID:-//wp-events-plugin.com//7.1.7//EN
BEGIN:VEVENT
UID:525@poonamusic.com
DTSTART:20040829T131500Z
DTEND:20040829T153000Z
DTSTAMP:20150302T203419Z
URL:https://poonamusic.com/events/workshop-by-dr-anjan-ray-titled-legends-
 and-fantasies-in-western-classical-music/
SUMMARY:Workshop by Dr. Anjan Ray titled Legends and Fantasies in western 
 classical Music
DESCRIPTION:Workshop by Dr. Anjan Ray titled Legends and Fantasies in west
 ern classical Music 
CATEGORIES:Other activities
LOCATION:Mazda Hall\, Sardar Dastur Hoshang Boys High School\, Pune\, India
GEO:18.5198845;73.87824479999995
X-APPLE-STRUCTURED-LOCATION;VALUE=URI;X-ADDRESS=Sardar Dastur Hoshang Boys 
 High School\, Pune\, India;X-APPLE-RADIUS=100;X-TITLE=Mazda Hall:geo:18.51
 98845,73.87824479999995
END:VEVENT
END:VCALENDAR