BEGIN:VCALENDAR
VERSION:2.0
PRODID:-//wp-events-plugin.com//7.1.7//EN
BEGIN:VEVENT
UID:524@poonamusic.com
DTSTART:20030914T131500Z
DTEND:20030914T153000Z
DTSTAMP:20150302T203419Z
URL:https://poonamusic.com/events/workshop-conducted-by-dr-anjan-ray-on-sh
 ared-and-borrowed-themes-the-sincerest-form-of-flattery/
SUMMARY:Workshop conducted by Dr. Anjan Ray on Shared and Borrowed themes 
 - The Sincerest Form of Flattery
DESCRIPTION:Workshop conducted by Dr. Anjan Ray on Shared and Borrowed the
 mes - The Sincerest Form of Flattery
CATEGORIES:Other activities
LOCATION:Mazda Hall\, Sardar Dastur Hoshang Boys High School\, Pune\, India
GEO:18.5198845;73.87824479999995
X-APPLE-STRUCTURED-LOCATION;VALUE=URI;X-ADDRESS=Sardar Dastur Hoshang Boys 
 High School\, Pune\, India;X-APPLE-RADIUS=100;X-TITLE=Mazda Hall:geo:18.51
 98845,73.87824479999995
END:VEVENT
END:VCALENDAR