BEGIN:VCALENDAR
VERSION:2.0
PRODID:-//wp-events-plugin.com//7.1.7//EN
BEGIN:VEVENT
UID:523@poonamusic.com
DTSTART:20010624T131500Z
DTEND:20010624T153000Z
DTSTAMP:20150302T203419Z
URL:https://poonamusic.com/events/workshop-conducted-by-dr-anjan-ray-title
 d-timeless-music-across-boundaries-of-time-western-classical-music-at-the-
 turn-of-the-centuries/
SUMMARY:Workshop conducted by Dr. Anjan Ray titled "Timeless Music across B
 oundaries of Time" (western classical music at the turn of the Centuries)
DESCRIPTION:Workshop conducted by Dr. Anjan Ray titled "Timeless Music acro
 ss Boundaries of Time" (western classical music at the turn of the Centuri
 es)
CATEGORIES:Other activities
LOCATION:Mazda Hall\, Sardar Dastur Hoshang Boys High School\, Pune\, India
GEO:18.5198845;73.87824479999995
X-APPLE-STRUCTURED-LOCATION;VALUE=URI;X-ADDRESS=Sardar Dastur Hoshang Boys 
 High School\, Pune\, India;X-APPLE-RADIUS=100;X-TITLE=Mazda Hall:geo:18.51
 98845,73.87824479999995
END:VEVENT
END:VCALENDAR