BEGIN:VCALENDAR
VERSION:2.0
PRODID:-//wp-events-plugin.com//7.1.7//EN
BEGIN:VEVENT
UID:1553@poonamusic.com
DTSTART:20210926T180000Z
DTEND:20210926T180000Z
DTSTAMP:20210923T122352Z
URL:https://poonamusic.com/events/yanis-benabdallah-tenor-and-marouan-bena
 bdallah-piano-online-concert/
SUMMARY:Yanis Benabdallah\, tenor and Marouan Benabdallah\, piano
DESCRIPTION:Yanis Benabdallah\, tenor and Marouan Benabdallah\, piano\n\nIn
  a programme of Kodály: Verbunk (Recruitment)\; Leoncavallo: Mattinata (M
 orning) and Fazil Say: Memleketim (Homeland)\n\nOur Hungarian / Moroccan p
 ianist friend Marouan Benabdallah is joined this time by his brother Yanis
  Benabdallah\, whose repertoire ranges from Folk and World Music\, to Lied
 er\, Oratorios\, Concert Arias\, to Operatic Roles\n\nHis personality and 
 talent allow him to tackle the great roles of the operatic repertoire. Int
 ense\, powerful or light\, his voice translates the emotions of the charac
 ters he interprets. His solid musical knowledge\, his assurance\, his exce
 ptional breath\, his phrasing\, make him an ideal partner for the pianist\
 , conductor and the singers he works with.\n\nThis film will be available 
 for a few weeks.\n\n
ATTACH;FMTTYPE=image/jpeg:https://poonamusic.com/pms_wp/wp-content/uploads
 /2021/09/Yanis-B.jpg
CATEGORIES:Online Concert
LOCATION:https://poonamusic.com/streams/
END:VEVENT
END:VCALENDAR