BEGIN:VCALENDAR
VERSION:2.0
PRODID:-//wp-events-plugin.com//7.1.7//EN
BEGIN:VEVENT
UID:1561@poonamusic.com
DTSTART:20220130T180000Z
DTEND:20220130T180000Z
DTSTAMP:20220123T153329Z
URL:https://poonamusic.com/events/zoltan-onczay-cello-and-marouan-benabdal
 lah-piano/
SUMMARY:Zoltan Onczay\, cello and  Marouan Benabdallah\, piano
DESCRIPTION:Sentiment\nZoltan Onczay\, cello and Marouan Benabdallah\, pian
 o\n\nIn a programme of David Popper: Begegnung (Meeting)\, Brahms: Sapphis
 che Ode\, Schubert: Du bist die Ruh\, Simonetti: Madrigale and Piazzolla: 
 Oblivion\n\nThis is a programme of Songs without Words. The cello being th
 e closest instrument to the human voice\, Songs written for the human voic
 e can easily be transcribed for cello.\n\nZoltan Onczay is a graduate of t
 he Liszt Academy and has also studied with some of the great cellists of o
 ur time. He was member of the Gustav Mahler Youth Orchestra\, Mannheim Cha
 mber Orchestra and Budapest Sextet.\n\nHe joins his friend\, pianist Marou
 an Benabdallah\, also a graduate of the Liszt Academy. Marouan is a true f
 riend of the Poona Music Society and does not need much introduction here 
 in Pune.\n\nThis film will be available for a few weeks.\n\n
ATTACH;FMTTYPE=image/jpeg:https://poonamusic.com/pms_wp/wp-content/uploads
 /2022/01/Onczay-Zoltan.jpg
CATEGORIES:Online Concert
LOCATION:https://poonamusic.com/streams/
END:VEVENT
END:VCALENDAR